BEGIN:VCALENDAR
VERSION:2.0
PRODID:-//Unterbalbach - ECPv6.15.20//NONSGML v1.0//EN
CALSCALE:GREGORIAN
METHOD:PUBLISH
X-WR-CALNAME:Unterbalbach
X-ORIGINAL-URL:https://unterbalbach.de
X-WR-CALDESC:Veranstaltungen für Unterbalbach
REFRESH-INTERVAL;VALUE=DURATION:PT1H
X-Robots-Tag:noindex
X-PUBLISHED-TTL:PT1H
BEGIN:VTIMEZONE
TZID:Europe/Berlin
BEGIN:DAYLIGHT
TZOFFSETFROM:+0100
TZOFFSETTO:+0200
TZNAME:CEST
DTSTART:20240331T010000
END:DAYLIGHT
BEGIN:STANDARD
TZOFFSETFROM:+0200
TZOFFSETTO:+0100
TZNAME:CET
DTSTART:20241027T010000
END:STANDARD
BEGIN:DAYLIGHT
TZOFFSETFROM:+0100
TZOFFSETTO:+0200
TZNAME:CEST
DTSTART:20250330T010000
END:DAYLIGHT
BEGIN:STANDARD
TZOFFSETFROM:+0200
TZOFFSETTO:+0100
TZNAME:CET
DTSTART:20251026T010000
END:STANDARD
BEGIN:DAYLIGHT
TZOFFSETFROM:+0100
TZOFFSETTO:+0200
TZNAME:CEST
DTSTART:20260329T010000
END:DAYLIGHT
BEGIN:STANDARD
TZOFFSETFROM:+0200
TZOFFSETTO:+0100
TZNAME:CET
DTSTART:20261025T010000
END:STANDARD
END:VTIMEZONE
BEGIN:VEVENT
DTSTART;TZID=Europe/Berlin:20250206T190000
DTEND;TZID=Europe/Berlin:20250206T200000
DTSTAMP:20260421T160952
CREATED:20241111T092716Z
LAST-MODIFIED:20241111T092716Z
UID:3688-1738868400-1738872000@unterbalbach.de
SUMMARY:Jahreshauptversammlung
DESCRIPTION:
URL:https://unterbalbach.de/event/jahreshauptversammlung-3/
LOCATION:Gasthaus Deutscher Hof
CATEGORIES:Aktuell
END:VEVENT
BEGIN:VEVENT
DTSTART;TZID=Europe/Berlin:20250215T200000
DTEND;TZID=Europe/Berlin:20250215T235900
DTSTAMP:20260421T160952
CREATED:20241111T092809Z
LAST-MODIFIED:20241111T092809Z
UID:3690-1739649600-1739663940@unterbalbach.de
SUMMARY:Kolpingfasching
DESCRIPTION:
URL:https://unterbalbach.de/event/kolpingfasching-5/
LOCATION:Pfarrzentrum – Pfarrsaal
CATEGORIES:Aktuell
END:VEVENT
BEGIN:VEVENT
DTSTART;VALUE=DATE:20250223
DTEND;VALUE=DATE:20250224
DTSTAMP:20260421T160952
CREATED:20241112T104104Z
LAST-MODIFIED:20241112T104104Z
UID:3781-1740268800-1740355199@unterbalbach.de
SUMMARY:Bundestagswahl
DESCRIPTION:
URL:https://unterbalbach.de/event/bundestagswahl/
LOCATION:Pfarrzentrum – Pfarrsaal
CATEGORIES:Aktuell
END:VEVENT
BEGIN:VEVENT
DTSTART;TZID=Europe/Berlin:20250224T180000
DTEND;TZID=Europe/Berlin:20250224T200000
DTSTAMP:20260421T160952
CREATED:20241111T104916Z
LAST-MODIFIED:20241111T104916Z
UID:3761-1740420000-1740427200@unterbalbach.de
SUMMARY:Gemeinderat der Stadt Lauda-Königshofen
DESCRIPTION:
URL:https://unterbalbach.de/event/gemeinderat-der-stadt-lauda-koenigshofen-2/
LOCATION:Rathaus Lauda
CATEGORIES:Aktuell
END:VEVENT
END:VCALENDAR