BEGIN:VCALENDAR
VERSION:2.0
PRODID:-//Unterbalbach - ECPv6.15.20//NONSGML v1.0//EN
CALSCALE:GREGORIAN
METHOD:PUBLISH
X-ORIGINAL-URL:https://unterbalbach.de
X-WR-CALDESC:Veranstaltungen für Unterbalbach
REFRESH-INTERVAL;VALUE=DURATION:PT1H
X-Robots-Tag:noindex
X-PUBLISHED-TTL:PT1H
BEGIN:VTIMEZONE
TZID:Europe/Berlin
BEGIN:DAYLIGHT
TZOFFSETFROM:+0100
TZOFFSETTO:+0200
TZNAME:CEST
DTSTART:20230326T010000
END:DAYLIGHT
BEGIN:STANDARD
TZOFFSETFROM:+0200
TZOFFSETTO:+0100
TZNAME:CET
DTSTART:20231029T010000
END:STANDARD
BEGIN:DAYLIGHT
TZOFFSETFROM:+0100
TZOFFSETTO:+0200
TZNAME:CEST
DTSTART:20240331T010000
END:DAYLIGHT
BEGIN:STANDARD
TZOFFSETFROM:+0200
TZOFFSETTO:+0100
TZNAME:CET
DTSTART:20241027T010000
END:STANDARD
BEGIN:DAYLIGHT
TZOFFSETFROM:+0100
TZOFFSETTO:+0200
TZNAME:CEST
DTSTART:20250330T010000
END:DAYLIGHT
BEGIN:STANDARD
TZOFFSETFROM:+0200
TZOFFSETTO:+0100
TZNAME:CET
DTSTART:20251026T010000
END:STANDARD
END:VTIMEZONE
BEGIN:VEVENT
DTSTART;TZID=Europe/Berlin:20241208T140000
DTEND;TZID=Europe/Berlin:20241208T170000
DTSTAMP:20260421T231501
CREATED:20231030T084119Z
LAST-MODIFIED:20231030T084119Z
UID:3490-1733666400-1733677200@unterbalbach.de
SUMMARY:Kolpinggedenktag
DESCRIPTION:
URL:https://unterbalbach.de/event/kolpinggedenktag-4/
LOCATION:Pfarrzentrum – Pfarrsaal
CATEGORIES:Aktuell
END:VEVENT
BEGIN:VEVENT
DTSTART;VALUE=DATE:20241220
DTEND;VALUE=DATE:20241221
DTSTAMP:20260421T231501
CREATED:20231030T084249Z
LAST-MODIFIED:20231030T084249Z
UID:3492-1734652800-1734739199@unterbalbach.de
SUMMARY:Weihnachtsgottesdienst
DESCRIPTION:
URL:https://unterbalbach.de/event/weihnachtsgottesdienst-3/
LOCATION:St.-Markus-Kirche
CATEGORIES:Aktuell
END:VEVENT
BEGIN:VEVENT
DTSTART;VALUE=DATE:20241223
DTEND;VALUE=DATE:20241224
DTSTAMP:20260421T231501
CREATED:20241014T104947Z
LAST-MODIFIED:20241014T104947Z
UID:3672-1734912000-1734998399@unterbalbach.de
SUMMARY:Weihnachtszauber Feuerwehr
DESCRIPTION:Uhrzeit aus der Tagespresse oder WhatsApp-Kanal entnehmen.
URL:https://unterbalbach.de/event/weihnachtszauber-feuerwehr/
LOCATION:Feuerwehrgerätehaus
CATEGORIES:Aktuell
END:VEVENT
END:VCALENDAR