BEGIN:VCALENDAR
VERSION:2.0
PRODID:-//Unterbalbach - ECPv6.15.20//NONSGML v1.0//EN
CALSCALE:GREGORIAN
METHOD:PUBLISH
X-ORIGINAL-URL:https://unterbalbach.de
X-WR-CALDESC:Veranstaltungen für Unterbalbach
REFRESH-INTERVAL;VALUE=DURATION:PT1H
X-Robots-Tag:noindex
X-PUBLISHED-TTL:PT1H
BEGIN:VTIMEZONE
TZID:Europe/Berlin
BEGIN:DAYLIGHT
TZOFFSETFROM:+0100
TZOFFSETTO:+0200
TZNAME:CEST
DTSTART:20230326T010000
END:DAYLIGHT
BEGIN:STANDARD
TZOFFSETFROM:+0200
TZOFFSETTO:+0100
TZNAME:CET
DTSTART:20231029T010000
END:STANDARD
BEGIN:DAYLIGHT
TZOFFSETFROM:+0100
TZOFFSETTO:+0200
TZNAME:CEST
DTSTART:20240331T010000
END:DAYLIGHT
BEGIN:STANDARD
TZOFFSETFROM:+0200
TZOFFSETTO:+0100
TZNAME:CET
DTSTART:20241027T010000
END:STANDARD
BEGIN:DAYLIGHT
TZOFFSETFROM:+0100
TZOFFSETTO:+0200
TZNAME:CEST
DTSTART:20250330T010000
END:DAYLIGHT
BEGIN:STANDARD
TZOFFSETFROM:+0200
TZOFFSETTO:+0100
TZNAME:CET
DTSTART:20251026T010000
END:STANDARD
END:VTIMEZONE
BEGIN:VEVENT
DTSTART;TZID=Europe/Berlin:20241005T000000
DTEND;TZID=Europe/Berlin:20241005T000000
DTSTAMP:20260422T022047
CREATED:20231030T083439Z
LAST-MODIFIED:20231030T083439Z
UID:3475-1728086400-1728086400@unterbalbach.de
SUMMARY:Gulaschfest
DESCRIPTION:
URL:https://unterbalbach.de/event/gulaschfest-2/
LOCATION:Balbachhalle
CATEGORIES:Aktuell
END:VEVENT
BEGIN:VEVENT
DTSTART;TZID=Europe/Berlin:20241008T000000
DTEND;TZID=Europe/Berlin:20241008T000000
DTSTAMP:20260422T022047
CREATED:20231030T083558Z
LAST-MODIFIED:20231030T083558Z
UID:3477-1728345600-1728345600@unterbalbach.de
SUMMARY:Jahreshauptversammlung
DESCRIPTION:
URL:https://unterbalbach.de/event/jahreshauptversammlung-2/
LOCATION:Balbachschule
CATEGORIES:Aktuell
END:VEVENT
BEGIN:VEVENT
DTSTART;VALUE=DATE:20241012
DTEND;VALUE=DATE:20241013
DTSTAMP:20260422T022047
CREATED:20231030T083722Z
LAST-MODIFIED:20231030T083722Z
UID:3479-1728691200-1728777599@unterbalbach.de
SUMMARY:Federweißerabend
DESCRIPTION:
URL:https://unterbalbach.de/event/federweisserabend-2/
LOCATION:Vereinsheim Schäferhundeverein
CATEGORIES:Aktuell
END:VEVENT
BEGIN:VEVENT
DTSTART;TZID=Europe/Berlin:20241019T140000
DTEND;TZID=Europe/Berlin:20241019T180000
DTSTAMP:20260422T022047
CREATED:20231030T083758Z
LAST-MODIFIED:20240411T144029Z
UID:3481-1729346400-1729360800@unterbalbach.de
SUMMARY:Herbstwanderung
DESCRIPTION:
URL:https://unterbalbach.de/event/herbstwanderung/
CATEGORIES:Aktuell
END:VEVENT
BEGIN:VEVENT
DTSTART;TZID=Europe/Berlin:20241023T193000
DTEND;TZID=Europe/Berlin:20241023T213000
DTSTAMP:20260422T022047
CREATED:20241014T104644Z
LAST-MODIFIED:20241014T104651Z
UID:3670-1729711800-1729719000@unterbalbach.de
SUMMARY:Öffentliche Ortschaftsratssitzung
DESCRIPTION:Mm Mittwoch\, 23. Oktober findet um 19.30 Uhr im Bürgersaal im ehemaligen Rathaus eine öffentliche Sitzung des Ortschaftsrates Unterbalbach statt. \nTagesordnung: \n1.    Bekanntgaben und anstehende Termine\n2.    Aktuell laufende\, beantragte Maßnahmen\, Rückblick 2024\n3.    Haushaltsanträge und Ausblick 2025\n4.    Neuer Hochbehälter und „neues“ Wasser – Sachstand\n5.    Starkregenmanagement – Sachstand\n6.    Grundsteuerreform – Sachstand\n7.    Verschiedenes
URL:https://unterbalbach.de/event/oeffentliche-ortschaftsratssitzung/
LOCATION:Altes Rathaus
CATEGORIES:Aktuell
END:VEVENT
END:VCALENDAR