BEGIN:VCALENDAR
VERSION:2.0
PRODID:-//Unterbalbach - ECPv6.15.20//NONSGML v1.0//EN
CALSCALE:GREGORIAN
METHOD:PUBLISH
X-ORIGINAL-URL:https://unterbalbach.de
X-WR-CALDESC:Veranstaltungen für Unterbalbach
REFRESH-INTERVAL;VALUE=DURATION:PT1H
X-Robots-Tag:noindex
X-PUBLISHED-TTL:PT1H
BEGIN:VTIMEZONE
TZID:Europe/Berlin
BEGIN:DAYLIGHT
TZOFFSETFROM:+0100
TZOFFSETTO:+0200
TZNAME:CEST
DTSTART:20230326T010000
END:DAYLIGHT
BEGIN:STANDARD
TZOFFSETFROM:+0200
TZOFFSETTO:+0100
TZNAME:CET
DTSTART:20231029T010000
END:STANDARD
BEGIN:DAYLIGHT
TZOFFSETFROM:+0100
TZOFFSETTO:+0200
TZNAME:CEST
DTSTART:20240331T010000
END:DAYLIGHT
BEGIN:STANDARD
TZOFFSETFROM:+0200
TZOFFSETTO:+0100
TZNAME:CET
DTSTART:20241027T010000
END:STANDARD
BEGIN:DAYLIGHT
TZOFFSETFROM:+0100
TZOFFSETTO:+0200
TZNAME:CEST
DTSTART:20250330T010000
END:DAYLIGHT
BEGIN:STANDARD
TZOFFSETFROM:+0200
TZOFFSETTO:+0100
TZNAME:CET
DTSTART:20251026T010000
END:STANDARD
END:VTIMEZONE
BEGIN:VEVENT
DTSTART;TZID=Europe/Berlin:20240706T000000
DTEND;TZID=Europe/Berlin:20240706T000000
DTSTAMP:20260422T065932
CREATED:20231030T082521Z
LAST-MODIFIED:20231030T082521Z
UID:3460-1720224000-1720224000@unterbalbach.de
SUMMARY:Wikingerschachturnier
DESCRIPTION:
URL:https://unterbalbach.de/event/wikingerschachturnier/
LOCATION:Sportgelände
CATEGORIES:Aktuell
END:VEVENT
BEGIN:VEVENT
DTSTART;TZID=Europe/Berlin:20240722T000000
DTEND;TZID=Europe/Berlin:20240722T000000
DTSTAMP:20260422T065932
CREATED:20231030T082638Z
LAST-MODIFIED:20231030T082638Z
UID:3462-1721606400-1721606400@unterbalbach.de
SUMMARY:Schuljahresabschlussfeier
DESCRIPTION:
URL:https://unterbalbach.de/event/schuljahresabschlussfeier/
LOCATION:Balbachschule
CATEGORIES:Aktuell
END:VEVENT
BEGIN:VEVENT
DTSTART;TZID=Europe/Berlin:20240724T000000
DTEND;TZID=Europe/Berlin:20240724T000000
DTSTAMP:20260422T065932
CREATED:20231030T082804Z
LAST-MODIFIED:20231030T082804Z
UID:3464-1721779200-1721779200@unterbalbach.de
SUMMARY:Abschlussgottesdienst
DESCRIPTION:KiTa\, SiT und BBS
URL:https://unterbalbach.de/event/abschlussgottesdienst-3/
LOCATION:St.-Markus-Kirche
CATEGORIES:Aktuell
END:VEVENT
BEGIN:VEVENT
DTSTART;TZID=Europe/Berlin:20240724T193000
DTEND;TZID=Europe/Berlin:20240724T210000
DTSTAMP:20260422T065932
CREATED:20240715T085028Z
LAST-MODIFIED:20240715T085117Z
UID:3602-1721849400-1721854800@unterbalbach.de
SUMMARY:Öffentliche Ortschaftsratsitzung
DESCRIPTION:Am Mittwoch\, 24. Juli 2024 findet um 19.30 Uhr im Bürgersaal des ehemaligen Rathauses eine öffentliche Sitzung des Ortschaftsrates Unterbalbach statt. Dies ist die konstituierende Sitzung des neuen Ortschaftsrates Unterbalbach. \n  \nTagesordnung: \n  \n\nVerabschiedung der auf Grund der Ortschaftsratswahl am 09. Juni 2024 ausscheidenden Ortschaftsräte\nEinführung und Verpflichtung der am 09. Juni 2024 gewählten Ortschaftsräte\nVorschlag eines Ortsvorstehers/einer Ortsvorsteherin an den Gemeinderat\nVorschlag eines Stellvertreters/einer Stellvertreterin des Ortsvorstehers/der Ortsvorsteherin an den Gemeinderat\nVerschiedenes\, Termine\, Bekanntmachungen\n\n  \nDie Bevölkerung ist hierzu herzlich eingeladen.
URL:https://unterbalbach.de/event/oeffentliche-ortschaftsratsitzung-7/
LOCATION:Bürgersaal ehemaliges Rathaus
CATEGORIES:Aktuell
END:VEVENT
BEGIN:VEVENT
DTSTART;TZID=Europe/Berlin:20240725T140000
DTEND;TZID=Europe/Berlin:20240725T180000
DTSTAMP:20260422T065932
CREATED:20231030T083140Z
LAST-MODIFIED:20231030T083140Z
UID:3469-1721916000-1721930400@unterbalbach.de
SUMMARY:Blutspende
DESCRIPTION:
URL:https://unterbalbach.de/event/blutspende-11/
LOCATION:Stadthalle Lauda
CATEGORIES:Aktuell
END:VEVENT
BEGIN:VEVENT
DTSTART;TZID=Europe/Berlin:20240725T190000
DTEND;TZID=Europe/Berlin:20240725T220000
DTSTAMP:20260422T065932
CREATED:20231030T083007Z
LAST-MODIFIED:20231030T083007Z
UID:3467-1721934000-1721944800@unterbalbach.de
SUMMARY:Bälmer Feierabendgrillen
DESCRIPTION:
URL:https://unterbalbach.de/event/baelmer-feierabendgrillen/
LOCATION:Schulhof
CATEGORIES:Aktuell
END:VEVENT
BEGIN:VEVENT
DTSTART;TZID=Europe/Berlin:20240727T090000
DTEND;TZID=Europe/Berlin:20240727T120000
DTSTAMP:20260422T065932
CREATED:20240715T085312Z
LAST-MODIFIED:20240715T085323Z
UID:3605-1722070800-1722081600@unterbalbach.de
SUMMARY:Streuobstwiesen mähen und Heu abräumen
DESCRIPTION:Einen umfangreichen Pflegeeinsatz führt die Naturschutzgruppe Taubergrund e.V. (NSG) am Samstag den 27.7.24 von 9:00 bis 12:00 Uhr zwischen Edelfingen und Unterbalbach durch. Die Streuobstwiesen am Auwäldchen\, einem hochwertigen Naturdenkmal\, und auf den angrenzenden schützenswerten Flächen muss gemäht und das Schnittgut abgeräumt werden. Besonders im Kampf gegen die rasche Verbuschung sowie für das Zurückdrängen der berüchtigten Neophyten sind solche Arbeitseinsätze dringend geboten\, auch Gräser die Blühpflanzen unterdrücken werden so ausgedünnt\nAlle interessierten Bürger und alle Mitglieder der NSG\, die eine Naturerfahrung bzw. ein Urlaubserlebnis der besonderen Art erleben möchten\, sind eingeladen\, die Naturschutzgruppe tatkräftig zu unterstützen. Treffpunkt ist am Samstag um 9 Uhr am Naturdenkmal „Auwäldchen“ am Radweg zwischen Edelfingen und Unterbalbach. Es stehen Werkzeuge Vorort zur Verfügung – wenn möglich eigenes Werkzeug Heurechen oder -gabel mitbringen.\nZum Abschluss gegen 12 Uhr gibt es ein kostenloses Vesper und Getränke mitten in der freien Natur. Anmeldungen bitte bei Elmar Patermann unter Tel.: 07931/45960 Mobil: 0176 34447005 oder eMail: info@naturschutz-taubergrund.de. Die Homepage: http://www.naturschutz-taubergrund.de/ informiert sie jederzeit über die Arbeit der NSG \nFür die Naturschutzgruppe Taubergrund\nHerzliche Grüße\nElmar Patermann
URL:https://unterbalbach.de/event/streuobstwiesen-maehen-und-heu-abraeumen/
LOCATION:Stadtteil Unterbalbach
CATEGORIES:Aktuell
ORGANIZER;CN="Naturschutzgruppe Taubergrund":MAILTO:info@naturschutz-taubergrund.de
END:VEVENT
END:VCALENDAR