BEGIN:VCALENDAR
VERSION:2.0
PRODID:-//Unterbalbach - ECPv6.15.20//NONSGML v1.0//EN
CALSCALE:GREGORIAN
METHOD:PUBLISH
X-WR-CALNAME:Unterbalbach
X-ORIGINAL-URL:https://unterbalbach.de
X-WR-CALDESC:Veranstaltungen für Unterbalbach
REFRESH-INTERVAL;VALUE=DURATION:PT1H
X-Robots-Tag:noindex
X-PUBLISHED-TTL:PT1H
BEGIN:VTIMEZONE
TZID:Europe/Berlin
BEGIN:DAYLIGHT
TZOFFSETFROM:+0100
TZOFFSETTO:+0200
TZNAME:CEST
DTSTART:20230326T010000
END:DAYLIGHT
BEGIN:STANDARD
TZOFFSETFROM:+0200
TZOFFSETTO:+0100
TZNAME:CET
DTSTART:20231029T010000
END:STANDARD
BEGIN:DAYLIGHT
TZOFFSETFROM:+0100
TZOFFSETTO:+0200
TZNAME:CEST
DTSTART:20240331T010000
END:DAYLIGHT
BEGIN:STANDARD
TZOFFSETFROM:+0200
TZOFFSETTO:+0100
TZNAME:CET
DTSTART:20241027T010000
END:STANDARD
BEGIN:DAYLIGHT
TZOFFSETFROM:+0100
TZOFFSETTO:+0200
TZNAME:CEST
DTSTART:20250330T010000
END:DAYLIGHT
BEGIN:STANDARD
TZOFFSETFROM:+0200
TZOFFSETTO:+0100
TZNAME:CET
DTSTART:20251026T010000
END:STANDARD
END:VTIMEZONE
BEGIN:VEVENT
DTSTART;TZID=Europe/Berlin:20240311T193000
DTEND;TZID=Europe/Berlin:20240311T193000
DTSTAMP:20260422T130402
CREATED:20231030T075714Z
LAST-MODIFIED:20231030T075714Z
UID:3436-1710185400-1710185400@unterbalbach.de
SUMMARY:Generalversammlung
DESCRIPTION:
URL:https://unterbalbach.de/event/generalversammlung-2/
LOCATION:Pfarrzentrum – Pfarrsaal
CATEGORIES:Aktuell
END:VEVENT
BEGIN:VEVENT
DTSTART;TZID=Europe/Berlin:20240316T090000
DTEND;TZID=Europe/Berlin:20240316T120000
DTSTAMP:20260422T130402
CREATED:20231030T080832Z
LAST-MODIFIED:20231030T080832Z
UID:3438-1710579600-1710590400@unterbalbach.de
SUMMARY:Aktion Sauberes Unterbalbach
DESCRIPTION:
URL:https://unterbalbach.de/event/aktion-sauberes-unterbalbach/
LOCATION:Stadtteil Unterbalbach
CATEGORIES:Aktuell
END:VEVENT
BEGIN:VEVENT
DTSTART;TZID=Europe/Berlin:20240319T193000
DTEND;TZID=Europe/Berlin:20240319T210000
DTSTAMP:20260422T130402
CREATED:20231030T080940Z
LAST-MODIFIED:20231030T080940Z
UID:3440-1710876600-1710882000@unterbalbach.de
SUMMARY:Jahreshauptversammlung DJK
DESCRIPTION:
URL:https://unterbalbach.de/event/jahreshauptversammlung-djk-2/
LOCATION:Sportheim DJK
CATEGORIES:Aktuell
END:VEVENT
BEGIN:VEVENT
DTSTART;TZID=Europe/Berlin:20240320T190000
DTEND;TZID=Europe/Berlin:20240320T210000
DTSTAMP:20260422T130402
CREATED:20231030T081236Z
LAST-MODIFIED:20231030T081236Z
UID:3442-1710961200-1710968400@unterbalbach.de
SUMMARY:Generalversammlung HKV
DESCRIPTION:
URL:https://unterbalbach.de/event/generalversammlung-hkv-2/
LOCATION:Bürgersaal ehemaliges Rathaus
CATEGORIES:Aktuell
END:VEVENT
BEGIN:VEVENT
DTSTART;VALUE=DATE:20240322
DTEND;VALUE=DATE:20240325
DTSTAMP:20260422T130402
CREATED:20240202T085214Z
LAST-MODIFIED:20240202T085238Z
UID:3536-1711065600-1711324799@unterbalbach.de
SUMMARY:Bälmer Theater "Ein Hof voller Narren"
DESCRIPTION:Verwechslungskomödie in 3 Akten \nVorderseite pdf
URL:https://unterbalbach.de/event/baelmer-theater-ein-hof-voller-narren/
LOCATION:Balbachhalle
CATEGORIES:Aktuell
END:VEVENT
BEGIN:VEVENT
DTSTART;TZID=Europe/Berlin:20240328T140000
DTEND;TZID=Europe/Berlin:20240328T180000
DTSTAMP:20260422T130402
CREATED:20231030T081504Z
LAST-MODIFIED:20231030T081504Z
UID:3444-1711634400-1711648800@unterbalbach.de
SUMMARY:Blutspende
DESCRIPTION:
URL:https://unterbalbach.de/event/blutspende-10/
LOCATION:Stadthalle Lauda
CATEGORIES:Aktuell
END:VEVENT
END:VCALENDAR