BEGIN:VCALENDAR
VERSION:2.0
PRODID:-//Unterbalbach - ECPv6.15.20//NONSGML v1.0//EN
CALSCALE:GREGORIAN
METHOD:PUBLISH
X-ORIGINAL-URL:https://unterbalbach.de
X-WR-CALDESC:Veranstaltungen für Unterbalbach
REFRESH-INTERVAL;VALUE=DURATION:PT1H
X-Robots-Tag:noindex
X-PUBLISHED-TTL:PT1H
BEGIN:VTIMEZONE
TZID:Europe/Berlin
BEGIN:DAYLIGHT
TZOFFSETFROM:+0100
TZOFFSETTO:+0200
TZNAME:CEST
DTSTART:20220327T010000
END:DAYLIGHT
BEGIN:STANDARD
TZOFFSETFROM:+0200
TZOFFSETTO:+0100
TZNAME:CET
DTSTART:20221030T010000
END:STANDARD
BEGIN:DAYLIGHT
TZOFFSETFROM:+0100
TZOFFSETTO:+0200
TZNAME:CEST
DTSTART:20230326T010000
END:DAYLIGHT
BEGIN:STANDARD
TZOFFSETFROM:+0200
TZOFFSETTO:+0100
TZNAME:CET
DTSTART:20231029T010000
END:STANDARD
BEGIN:DAYLIGHT
TZOFFSETFROM:+0100
TZOFFSETTO:+0200
TZNAME:CEST
DTSTART:20240331T010000
END:DAYLIGHT
BEGIN:STANDARD
TZOFFSETFROM:+0200
TZOFFSETTO:+0100
TZNAME:CET
DTSTART:20241027T010000
END:STANDARD
END:VTIMEZONE
BEGIN:VEVENT
DTSTART;TZID=Europe/Berlin:20231004T200000
DTEND;TZID=Europe/Berlin:20231004T200000
DTSTAMP:20260422T205747
CREATED:20221121T102714Z
LAST-MODIFIED:20221121T102714Z
UID:3275-1696449600-1696449600@unterbalbach.de
SUMMARY:Jahresbesprechung Ortschaftsrat und Vereine
DESCRIPTION:
URL:https://unterbalbach.de/event/jahresbesprechung-ortschaftsrat-und-vereine/
LOCATION:Bürgersaal ehemaliges Rathaus
CATEGORIES:Aktuell
END:VEVENT
BEGIN:VEVENT
DTSTART;VALUE=DATE:20231007
DTEND;VALUE=DATE:20231008
DTSTAMP:20260422T205747
CREATED:20201202T150346Z
LAST-MODIFIED:20230928T082319Z
UID:2719-1696636800-1696723199@unterbalbach.de
SUMMARY:2. Bälmer Gulaschfest (entfällt)
DESCRIPTION:Das geplante Gulaschfest fällt in diesem Jahr mangels Teilnehmer aus.
URL:https://unterbalbach.de/event/gulaschfest/
LOCATION:Balbachhalle
END:VEVENT
BEGIN:VEVENT
DTSTART;TZID=Europe/Berlin:20231010T200000
DTEND;TZID=Europe/Berlin:20231010T200000
DTSTAMP:20260422T205747
CREATED:20221121T102837Z
LAST-MODIFIED:20221121T102837Z
UID:3277-1696968000-1696968000@unterbalbach.de
SUMMARY:Jahreshauptversammlung Förderverein
DESCRIPTION:
URL:https://unterbalbach.de/event/jahreshauptversammlung-foerderverein/
LOCATION:Balbachschule
CATEGORIES:Aktuell
END:VEVENT
BEGIN:VEVENT
DTSTART;TZID=Europe/Berlin:20231014T180000
DTEND;TZID=Europe/Berlin:20231014T220000
DTSTAMP:20260422T205747
CREATED:20221121T102917Z
LAST-MODIFIED:20221121T102917Z
UID:3279-1697306400-1697320800@unterbalbach.de
SUMMARY:Federweißerabend
DESCRIPTION:
URL:https://unterbalbach.de/event/federweisserabend/
LOCATION:Vereinsheim Schäferhundeverein
CATEGORIES:Aktuell
END:VEVENT
BEGIN:VEVENT
DTSTART;TZID=Europe/Berlin:20231029T110000
DTEND;TZID=Europe/Berlin:20231029T170000
DTSTAMP:20260422T205747
CREATED:20230928T082509Z
LAST-MODIFIED:20230928T082546Z
UID:3417-1698577200-1698598800@unterbalbach.de
SUMMARY:Seniorennachmittag
DESCRIPTION:
URL:https://unterbalbach.de/event/seniorennachmittag-2/
LOCATION:Balbachschule
END:VEVENT
BEGIN:VEVENT
DTSTART;TZID=Europe/Berlin:20231030T183000
DTEND;TZID=Europe/Berlin:20231030T210000
DTSTAMP:20260422T205747
CREATED:20231030T083848Z
LAST-MODIFIED:20231030T083848Z
UID:3483-1698690600-1698699600@unterbalbach.de
SUMMARY:Martinsumzug
DESCRIPTION:
URL:https://unterbalbach.de/event/martinsumzug-7/
LOCATION:Wendeplatte
CATEGORIES:Aktuell
END:VEVENT
END:VCALENDAR