BEGIN:VCALENDAR
VERSION:2.0
PRODID:-//Unterbalbach - ECPv6.15.20//NONSGML v1.0//EN
CALSCALE:GREGORIAN
METHOD:PUBLISH
X-WR-CALNAME:Unterbalbach
X-ORIGINAL-URL:https://unterbalbach.de
X-WR-CALDESC:Veranstaltungen für Unterbalbach
REFRESH-INTERVAL;VALUE=DURATION:PT1H
X-Robots-Tag:noindex
X-PUBLISHED-TTL:PT1H
BEGIN:VTIMEZONE
TZID:Europe/Berlin
BEGIN:DAYLIGHT
TZOFFSETFROM:+0100
TZOFFSETTO:+0200
TZNAME:CEST
DTSTART:20210328T010000
END:DAYLIGHT
BEGIN:STANDARD
TZOFFSETFROM:+0200
TZOFFSETTO:+0100
TZNAME:CET
DTSTART:20211031T010000
END:STANDARD
BEGIN:DAYLIGHT
TZOFFSETFROM:+0100
TZOFFSETTO:+0200
TZNAME:CEST
DTSTART:20220327T010000
END:DAYLIGHT
BEGIN:STANDARD
TZOFFSETFROM:+0200
TZOFFSETTO:+0100
TZNAME:CET
DTSTART:20221030T010000
END:STANDARD
BEGIN:DAYLIGHT
TZOFFSETFROM:+0100
TZOFFSETTO:+0200
TZNAME:CEST
DTSTART:20230326T010000
END:DAYLIGHT
BEGIN:STANDARD
TZOFFSETFROM:+0200
TZOFFSETTO:+0100
TZNAME:CET
DTSTART:20231029T010000
END:STANDARD
END:VTIMEZONE
BEGIN:VEVENT
DTSTART;TZID=Europe/Berlin:20221102T190000
DTEND;TZID=Europe/Berlin:20221102T190000
DTSTAMP:20260423T131027
CREATED:20221017T143521Z
LAST-MODIFIED:20221017T144403Z
UID:3189-1667415600-1667415600@unterbalbach.de
SUMMARY:Öffentliche Sitzung des Ortschaftsrates
DESCRIPTION:Einladung zur öffentlichen Sitzung des Ortschaftsrates Unterbalbach \nAm Mittwoch\, 02. November 2022 findet um 19.00 Uhr im Bürgersaal im alten Rathaus eine öffentliche Sitzung des Ortschaftsrates Unterbalbach statt. \nTagesordnung:\n1. Bekanntgaben und anstehende Termine\n2. Aktuell laufende oder beantragte Maßnahmen\n3. Anhörung des Ortschaftsrates Unterbalbach gemäß § 70 Abs. 1 GemO über die geplante Abschaffung bzw. Modifizierung der Unechten Teilortswahl durch die Stadt Lauda-Königshofen.\na.) Einholung Stimmungsbild der Bürgerschaft und Möglichkeit zur Wortmeldung\nb.) Beratung und Beschlussfassung des Ortschaftsrates Unterbalbach über die Anhörung gemäß § 70 Abs. 1 GemO\n4. Verschiedenes \nDie Bevölkerung ist hierzu herzlich eingeladen.
URL:https://unterbalbach.de/event/oeffentliche-sitzung-des-ortschaftsrates-5/
LOCATION:Bürgersaal ehemaliges Rathaus
CATEGORIES:Aktuell
END:VEVENT
BEGIN:VEVENT
DTSTART;TZID=Europe/Berlin:20221111T080000
DTEND;TZID=Europe/Berlin:20221111T170000
DTSTAMP:20260423T131027
CREATED:20220124T123319Z
LAST-MODIFIED:20220124T123319Z
UID:3047-1668153600-1668186000@unterbalbach.de
SUMMARY:Martinsumzug
DESCRIPTION:
URL:https://unterbalbach.de/event/martinsumzug-5/
LOCATION:Schulhof
CATEGORIES:Aktuell
END:VEVENT
BEGIN:VEVENT
DTSTART;TZID=Europe/Berlin:20221113T103000
DTEND;TZID=Europe/Berlin:20221113T110000
DTSTAMP:20260423T131027
CREATED:20190924T143658Z
LAST-MODIFIED:20211115T104034Z
UID:2448-1668335400-1668337200@unterbalbach.de
SUMMARY:Gedenkfeier zum Volkstrauertag
DESCRIPTION:
URL:https://unterbalbach.de/event/gedenkfeier-zum-volkstrauertag-3/
LOCATION:Alter Friedhof
CATEGORIES:Aktuell
END:VEVENT
BEGIN:VEVENT
DTSTART;TZID=Europe/Berlin:20221119T140000
DTEND;TZID=Europe/Berlin:20221119T160000
DTSTAMP:20260423T131027
CREATED:20190924T144053Z
LAST-MODIFIED:20211115T104108Z
UID:2456-1668866400-1668873600@unterbalbach.de
SUMMARY:Basar für Kinderspielsachen
DESCRIPTION:
URL:https://unterbalbach.de/event/basar-fuer-kinderspielsachen/
LOCATION:Balbachhalle
CATEGORIES:Aktuell
END:VEVENT
BEGIN:VEVENT
DTSTART;TZID=Europe/Berlin:20221126T143000
DTEND;TZID=Europe/Berlin:20221126T203000
DTSTAMP:20260423T131027
CREATED:20190924T144003Z
LAST-MODIFIED:20211115T104148Z
UID:2454-1669473000-1669494600@unterbalbach.de
SUMMARY:22. Christbaumfest
DESCRIPTION:
URL:https://unterbalbach.de/event/22-christbaumfest/
LOCATION:Schulhof
CATEGORIES:Aktuell
END:VEVENT
END:VCALENDAR