BEGIN:VCALENDAR
VERSION:2.0
PRODID:-//Unterbalbach - ECPv6.15.20//NONSGML v1.0//EN
CALSCALE:GREGORIAN
METHOD:PUBLISH
X-ORIGINAL-URL:https://unterbalbach.de
X-WR-CALDESC:Veranstaltungen für Unterbalbach
REFRESH-INTERVAL;VALUE=DURATION:PT1H
X-Robots-Tag:noindex
X-PUBLISHED-TTL:PT1H
BEGIN:VTIMEZONE
TZID:Europe/Berlin
BEGIN:DAYLIGHT
TZOFFSETFROM:+0100
TZOFFSETTO:+0200
TZNAME:CEST
DTSTART:20210328T010000
END:DAYLIGHT
BEGIN:STANDARD
TZOFFSETFROM:+0200
TZOFFSETTO:+0100
TZNAME:CET
DTSTART:20211031T010000
END:STANDARD
BEGIN:DAYLIGHT
TZOFFSETFROM:+0100
TZOFFSETTO:+0200
TZNAME:CEST
DTSTART:20220327T010000
END:DAYLIGHT
BEGIN:STANDARD
TZOFFSETFROM:+0200
TZOFFSETTO:+0100
TZNAME:CET
DTSTART:20221030T010000
END:STANDARD
BEGIN:DAYLIGHT
TZOFFSETFROM:+0100
TZOFFSETTO:+0200
TZNAME:CEST
DTSTART:20230326T010000
END:DAYLIGHT
BEGIN:STANDARD
TZOFFSETFROM:+0200
TZOFFSETTO:+0100
TZNAME:CET
DTSTART:20231029T010000
END:STANDARD
END:VTIMEZONE
BEGIN:VEVENT
DTSTART;TZID=Europe/Berlin:20220702T190000
DTEND;TZID=Europe/Berlin:20220702T223000
DTSTAMP:20260423T193505
CREATED:20211115T102142Z
LAST-MODIFIED:20220628T103233Z
UID:2986-1656788400-1656801000@unterbalbach.de
SUMMARY:Tischlein-Deck-Dich-Fest
DESCRIPTION:
URL:https://unterbalbach.de/event/tischlein-deck-dich-fest-2/
LOCATION:St.-Markus-Kirche
CATEGORIES:Aktuell
END:VEVENT
BEGIN:VEVENT
DTSTART;TZID=Europe/Berlin:20220709T160000
DTEND;TZID=Europe/Berlin:20220709T233000
DTSTAMP:20260423T193505
CREATED:20190924T135809Z
LAST-MODIFIED:20220628T103315Z
UID:2413-1657382400-1657409400@unterbalbach.de
SUMMARY:Wikingerschach-Ortsmeisterschaft
DESCRIPTION:
URL:https://unterbalbach.de/event/wikingerschach-ortsmeisterschaft-2/
LOCATION:Festplatz
CATEGORIES:Aktuell
END:VEVENT
BEGIN:VEVENT
DTSTART;TZID=Europe/Berlin:20220714T190000
DTEND;TZID=Europe/Berlin:20220714T210000
DTSTAMP:20260423T193505
CREATED:20220627T122940Z
LAST-MODIFIED:20220628T135706Z
UID:3116-1657825200-1657832400@unterbalbach.de
SUMMARY:Öffentliche Ortschaftsratsitzung
DESCRIPTION:Am Donnerstag\, 14. Juli 2022 findet um 19.00 Uhr im Bürgersaal im alten Rathaus eine öffentliche Sitzung des Ortschaftsrates Unterbalbach statt. \nTagesordnung:\n1. Bekanntgaben und anstehende Termine\n2. Aktuell laufende oder beantragte Maßnahmen\n3. Partnerschaft mit Rátka – Rückblick und Ausblick\n4. Baugebiet Mühlbach – aktueller Stand\n5. Mauer Jüdischer Friedhof – aktueller Stand\n6. Biber im Balbach – aktueller Stand\n7. Neue Wasserversorgung – aktueller Stand\n8. Kommunalwahlen 2024\n9. Verschiedenes/Anfragen \nEs schließt sich eine nichtöffentliche Ortschaftsratsitzung an.
URL:https://unterbalbach.de/event/oeffentliche-ortschaftsratsitzung-4/
LOCATION:Bürgersaal ehemaliges Rathaus
CATEGORIES:Aktuell
END:VEVENT
BEGIN:VEVENT
DTSTART;TZID=Europe/Berlin:20220723T100000
DTEND;TZID=Europe/Berlin:20220723T120000
DTSTAMP:20260423T193505
CREATED:20211115T103414Z
LAST-MODIFIED:20220628T092533Z
UID:2995-1658570400-1658577600@unterbalbach.de
SUMMARY:Firmung
DESCRIPTION:
URL:https://unterbalbach.de/event/firmung/
LOCATION:Kirche Königshofen
CATEGORIES:Aktuell
END:VEVENT
BEGIN:VEVENT
DTSTART;TZID=Europe/Berlin:20220728T140000
DTEND;TZID=Europe/Berlin:20220728T190000
DTSTAMP:20260423T193505
CREATED:20190924T140541Z
LAST-MODIFIED:20211115T103524Z
UID:2427-1659016800-1659034800@unterbalbach.de
SUMMARY:Blutspende
DESCRIPTION:
URL:https://unterbalbach.de/event/blutspende-6/
LOCATION:Stadthalle Lauda
CATEGORIES:Aktuell
END:VEVENT
END:VCALENDAR