BEGIN:VCALENDAR
VERSION:2.0
PRODID:-//Unterbalbach - ECPv6.15.20//NONSGML v1.0//EN
CALSCALE:GREGORIAN
METHOD:PUBLISH
X-WR-CALNAME:Unterbalbach
X-ORIGINAL-URL:https://unterbalbach.de
X-WR-CALDESC:Veranstaltungen für Unterbalbach
REFRESH-INTERVAL;VALUE=DURATION:PT1H
X-Robots-Tag:noindex
X-PUBLISHED-TTL:PT1H
BEGIN:VTIMEZONE
TZID:Europe/Berlin
BEGIN:DAYLIGHT
TZOFFSETFROM:+0100
TZOFFSETTO:+0200
TZNAME:CEST
DTSTART:20200329T010000
END:DAYLIGHT
BEGIN:STANDARD
TZOFFSETFROM:+0200
TZOFFSETTO:+0100
TZNAME:CET
DTSTART:20201025T010000
END:STANDARD
BEGIN:DAYLIGHT
TZOFFSETFROM:+0100
TZOFFSETTO:+0200
TZNAME:CEST
DTSTART:20210328T010000
END:DAYLIGHT
BEGIN:STANDARD
TZOFFSETFROM:+0200
TZOFFSETTO:+0100
TZNAME:CET
DTSTART:20211031T010000
END:STANDARD
BEGIN:DAYLIGHT
TZOFFSETFROM:+0100
TZOFFSETTO:+0200
TZNAME:CEST
DTSTART:20220327T010000
END:DAYLIGHT
BEGIN:STANDARD
TZOFFSETFROM:+0200
TZOFFSETTO:+0100
TZNAME:CET
DTSTART:20221030T010000
END:STANDARD
END:VTIMEZONE
BEGIN:VEVENT
DTSTART;TZID=Europe/Berlin:20211006T180000
DTEND;TZID=Europe/Berlin:20211006T180000
DTSTAMP:20260424T085931
CREATED:20210804T161345Z
LAST-MODIFIED:20210804T161345Z
UID:2911-1633543200-1633543200@unterbalbach.de
SUMMARY:Sprechstunde Ortsvorsteher
DESCRIPTION:
URL:https://unterbalbach.de/event/sprechstunde-ortsvorsteher-7/
LOCATION:Altes Rathaus
CATEGORIES:Aktuell
END:VEVENT
BEGIN:VEVENT
DTSTART;TZID=Europe/Berlin:20211012T200000
DTEND;TZID=Europe/Berlin:20211012T200000
DTSTAMP:20260424T085931
CREATED:20190924T143803Z
LAST-MODIFIED:20210915T114016Z
UID:2450-1634068800-1634068800@unterbalbach.de
SUMMARY:Generalversammlung Förderverein Balbachschule
DESCRIPTION:
URL:https://unterbalbach.de/event/generalversammlung-foerderverein-balbachschule-2/
LOCATION:Balbachschule
CATEGORIES:Aktuell
END:VEVENT
BEGIN:VEVENT
DTSTART;TZID=Europe/Berlin:20211013T190000
DTEND;TZID=Europe/Berlin:20211013T200000
DTSTAMP:20260424T085931
CREATED:20210915T113849Z
LAST-MODIFIED:20211004T144410Z
UID:2928-1634151600-1634155200@unterbalbach.de
SUMMARY:Öffentliche Ortschaftsratsitzung
DESCRIPTION:Tagesordnung: \n\nVorschlag eines neuen Ortsvorstehers zum 01.01.2022 an den  Gemeinderat\nVerschiedenes
URL:https://unterbalbach.de/event/oeffentliche-ortschaftsratsitzung-3/
LOCATION:Bürgersaal ehemaliges Rathaus
CATEGORIES:Aktuell
END:VEVENT
END:VCALENDAR