BEGIN:VCALENDAR
VERSION:2.0
PRODID:-//Unterbalbach - ECPv6.15.20//NONSGML v1.0//EN
CALSCALE:GREGORIAN
METHOD:PUBLISH
X-WR-CALNAME:Unterbalbach
X-ORIGINAL-URL:https://unterbalbach.de
X-WR-CALDESC:Veranstaltungen für Unterbalbach
REFRESH-INTERVAL;VALUE=DURATION:PT1H
X-Robots-Tag:noindex
X-PUBLISHED-TTL:PT1H
BEGIN:VTIMEZONE
TZID:Europe/Berlin
BEGIN:DAYLIGHT
TZOFFSETFROM:+0100
TZOFFSETTO:+0200
TZNAME:CEST
DTSTART:20180325T010000
END:DAYLIGHT
BEGIN:STANDARD
TZOFFSETFROM:+0200
TZOFFSETTO:+0100
TZNAME:CET
DTSTART:20181028T010000
END:STANDARD
BEGIN:DAYLIGHT
TZOFFSETFROM:+0100
TZOFFSETTO:+0200
TZNAME:CEST
DTSTART:20190331T010000
END:DAYLIGHT
BEGIN:STANDARD
TZOFFSETFROM:+0200
TZOFFSETTO:+0100
TZNAME:CET
DTSTART:20191027T010000
END:STANDARD
BEGIN:DAYLIGHT
TZOFFSETFROM:+0100
TZOFFSETTO:+0200
TZNAME:CEST
DTSTART:20200329T010000
END:DAYLIGHT
BEGIN:STANDARD
TZOFFSETFROM:+0200
TZOFFSETTO:+0100
TZNAME:CET
DTSTART:20201025T010000
END:STANDARD
END:VTIMEZONE
BEGIN:VEVENT
DTSTART;TZID=Europe/Berlin:20190910T080000
DTEND;TZID=Europe/Berlin:20190910T170000
DTSTAMP:20260426T002511
CREATED:20181010T145533Z
LAST-MODIFIED:20190821T143045Z
UID:1916-1568102400-1568134800@unterbalbach.de
SUMMARY:Weinbergwanderung und Weinprobe
DESCRIPTION:Weinbergwanderung und Weinprobe \n  \nEine weitere Veranstaltung im Rahmen des Jubiläumsjahres „800 Jahre Unterbalbach“ findet am Dienstag\, 10.09.2019 statt. Unter dem Thema: „Die Geschichte des Weinbaus in Unterbalbach und der Region“  wird  zunächst um 17.30 Uhr eine Weinbergwanderung am Vogelsberg unter fachkundiger Leitung angeboten. Die Wanderung dauert ca. 1\,5 Stunden. Treffpunkt ist am Vereinsheim des Schäferhundevereins. Anmeldungen hierzu sind nicht erforderlich. \nAn die Wanderung schließt sich gegen 19.00 Uhr der zweite Teil des Abends an:  Eine Weinprobe im Vereinsheim des Schäferhundevereins am Vogelsberg mit dem ehemaligen Kellermeister der WG Beckstein\, Stefan Steffen. Hier ist die Teilnehmerzahl auf max. 50 Personen begrenzt. Aus diesem Grund wird um verbindliche Anmeldung bis zum 03.09.2019 beim Ortsvorsteher Andreas Buchmann gebeten (Email: ortsvorsteher@unterbalbach.de oder Tel. 09343-58618). \nDer Unkostenbeitrag für die Weinprobe beträgt 18 €. Im Preis enthalten sind 6 Weine\, ein Sekt\, zwei Gourmetteller\, Brot und Mineralwasser.
URL:https://unterbalbach.de/event/weinbergwanderung-und-weinprobe/
CATEGORIES:Aktuell
END:VEVENT
BEGIN:VEVENT
DTSTART;TZID=Europe/Berlin:20190912T140000
DTEND;TZID=Europe/Berlin:20190912T170000
DTSTAMP:20260426T002511
CREATED:20181010T145647Z
LAST-MODIFIED:20181010T145647Z
UID:1918-1568296800-1568307600@unterbalbach.de
SUMMARY:VdK-Besichtigung Bundeswehr Niederstetten
DESCRIPTION:
URL:https://unterbalbach.de/event/vdk-besichtigung-bundeswehr-niederstetten/
CATEGORIES:Aktuell
END:VEVENT
BEGIN:VEVENT
DTSTART;TZID=Europe/Berlin:20190923T200000
DTEND;TZID=Europe/Berlin:20190923T200000
DTSTAMP:20260426T002511
CREATED:20181010T145754Z
LAST-MODIFIED:20181010T145754Z
UID:1920-1569268800-1569268800@unterbalbach.de
SUMMARY:Terminabsprache 2020
DESCRIPTION:
URL:https://unterbalbach.de/event/terminabsprache-2020/
LOCATION:DRK-Vereinsheim
CATEGORIES:Aktuell
END:VEVENT
BEGIN:VEVENT
DTSTART;TZID=Europe/Berlin:20190924T080000
DTEND;TZID=Europe/Berlin:20190924T170000
DTSTAMP:20260426T002511
CREATED:20190924T133735Z
LAST-MODIFIED:20191002T070822Z
UID:2384-1569312000-1569344400@unterbalbach.de
SUMMARY:Vortrag mit Apotheker Köhler
DESCRIPTION:
URL:https://unterbalbach.de/event/vortrag-mit-apotheker-koehler-2/
LOCATION:Gasthaus Deutscher Hof
CATEGORIES:Aktuell
END:VEVENT
BEGIN:VEVENT
DTSTART;TZID=Europe/Berlin:20190930T190000
DTEND;TZID=Europe/Berlin:20190930T190000
DTSTAMP:20260426T002511
CREATED:20181010T145854Z
LAST-MODIFIED:20181010T145854Z
UID:1922-1569870000-1569870000@unterbalbach.de
SUMMARY:Elternvollversammlung
DESCRIPTION:
URL:https://unterbalbach.de/event/elternvollversammlung-2/
LOCATION:Bürgersaal ehemaliges Rathaus
CATEGORIES:Aktuell
END:VEVENT
END:VCALENDAR