BEGIN:VCALENDAR
VERSION:2.0
PRODID:-//Unterbalbach - ECPv6.15.20//NONSGML v1.0//EN
CALSCALE:GREGORIAN
METHOD:PUBLISH
X-WR-CALNAME:Unterbalbach
X-ORIGINAL-URL:https://unterbalbach.de
X-WR-CALDESC:Veranstaltungen für Unterbalbach
REFRESH-INTERVAL;VALUE=DURATION:PT1H
X-Robots-Tag:noindex
X-PUBLISHED-TTL:PT1H
BEGIN:VTIMEZONE
TZID:Europe/Berlin
BEGIN:DAYLIGHT
TZOFFSETFROM:+0100
TZOFFSETTO:+0200
TZNAME:CEST
DTSTART:20180325T010000
END:DAYLIGHT
BEGIN:STANDARD
TZOFFSETFROM:+0200
TZOFFSETTO:+0100
TZNAME:CET
DTSTART:20181028T010000
END:STANDARD
BEGIN:DAYLIGHT
TZOFFSETFROM:+0100
TZOFFSETTO:+0200
TZNAME:CEST
DTSTART:20190331T010000
END:DAYLIGHT
BEGIN:STANDARD
TZOFFSETFROM:+0200
TZOFFSETTO:+0100
TZNAME:CET
DTSTART:20191027T010000
END:STANDARD
BEGIN:DAYLIGHT
TZOFFSETFROM:+0100
TZOFFSETTO:+0200
TZNAME:CEST
DTSTART:20200329T010000
END:DAYLIGHT
BEGIN:STANDARD
TZOFFSETFROM:+0200
TZOFFSETTO:+0100
TZNAME:CET
DTSTART:20201025T010000
END:STANDARD
END:VTIMEZONE
BEGIN:VEVENT
DTSTART;TZID=Europe/Berlin:20190505T080000
DTEND;TZID=Europe/Berlin:20190505T170000
DTSTAMP:20260426T062830
CREATED:20181010T143722Z
LAST-MODIFIED:20181010T143722Z
UID:1882-1557043200-1557075600@unterbalbach.de
SUMMARY:Erstkommunion
DESCRIPTION:
URL:https://unterbalbach.de/event/erstkommunion-2/
LOCATION:St.-Markus-Kirche
CATEGORIES:Aktuell
END:VEVENT
BEGIN:VEVENT
DTSTART;TZID=Europe/Berlin:20190507T190000
DTEND;TZID=Europe/Berlin:20190507T190000
DTSTAMP:20260426T062830
CREATED:20190422T200120Z
LAST-MODIFIED:20190422T200145Z
UID:2186-1557255600-1557255600@unterbalbach.de
SUMMARY:Öffentliche Ortschaftsratsitzung
DESCRIPTION:Einladung zur öffentlichen Sitzung des Ortschaftsrates\nUnterbalbach\nAm Dienstag\, 07.05.2019 findet um 19.00 Uhr im Bürgersaal im alten\nRathaus eine öffentliche Sitzung des Ortschaftsrates Unterbalbach statt.\nTagesordnung:\n1. Projekt Tagespflege in Unterbalbach\n2. Baugesuche\n3. Haushalt 2019: genehmigte Maßnahmen\n4. Festwochenende 800 Jahre Unterbalbach\n5. Hinweise zur Kommunalwahl\n6. Verschiedenes/Bekanntgaben\n7. Anfragen aus der Bevölkerung
URL:https://unterbalbach.de/event/oeffentliche-ortschaftsratsitzung/
LOCATION:Bürgersaal ehemaliges Rathaus
CATEGORIES:Aktuell
END:VEVENT
BEGIN:VEVENT
DTSTART;TZID=Europe/Berlin:20190515T183000
DTEND;TZID=Europe/Berlin:20190515T183000
DTSTAMP:20260426T062830
CREATED:20181010T144043Z
LAST-MODIFIED:20181010T144043Z
UID:1887-1557945000-1557945000@unterbalbach.de
SUMMARY:Maiandacht
DESCRIPTION:
URL:https://unterbalbach.de/event/maiandacht/
LOCATION:Bergkapelle
CATEGORIES:Aktuell
END:VEVENT
BEGIN:VEVENT
DTSTART;TZID=Europe/Berlin:20190519T170000
DTEND;TZID=Europe/Berlin:20190519T170000
DTSTAMP:20260426T062830
CREATED:20190506T103256Z
LAST-MODIFIED:20190506T103256Z
UID:2191-1558285200-1558285200@unterbalbach.de
SUMMARY:Maiandacht mit der Jakob-Stubenmusik und Die Zwiefach-Boarischen
DESCRIPTION:
URL:https://unterbalbach.de/event/maiandacht-mit-der-jakob-stubenmusik-und-die-zwiefach-boarischen/
LOCATION:St.-Markus-Kirche
CATEGORIES:Aktuell
END:VEVENT
BEGIN:VEVENT
DTSTART;TZID=Europe/Berlin:20190523T080000
DTEND;TZID=Europe/Berlin:20190526T170000
DTSTAMP:20260426T062830
CREATED:20181010T144139Z
LAST-MODIFIED:20181010T144139Z
UID:1890-1558598400-1558890000@unterbalbach.de
SUMMARY:72-Stunden-Aktion
DESCRIPTION:
URL:https://unterbalbach.de/event/72-stunden-aktion/
CATEGORIES:Aktuell
END:VEVENT
BEGIN:VEVENT
DTSTART;TZID=Europe/Berlin:20190525T080000
DTEND;TZID=Europe/Berlin:20190525T170000
DTSTAMP:20260426T062830
CREATED:20181010T144237Z
LAST-MODIFIED:20181010T144237Z
UID:1893-1558771200-1558803600@unterbalbach.de
SUMMARY:Tag der offenen Tür Kita / Schulfest
DESCRIPTION:
URL:https://unterbalbach.de/event/tag-der-offenen-tuer-kita-schulfest/
CATEGORIES:Aktuell
END:VEVENT
BEGIN:VEVENT
DTSTART;TZID=Europe/Berlin:20190529T180000
DTEND;TZID=Europe/Berlin:20190529T180000
DTSTAMP:20260426T062830
CREATED:20181010T143924Z
LAST-MODIFIED:20181010T143924Z
UID:1884-1559152800-1559152800@unterbalbach.de
SUMMARY:VdK-Wanderung nach Oberbalbach
DESCRIPTION:
URL:https://unterbalbach.de/event/vdk-wanderung-nach-oberbalbach/
LOCATION:Ortsmitte
CATEGORIES:Aktuell
END:VEVENT
END:VCALENDAR