BEGIN:VCALENDAR
VERSION:2.0
PRODID:-//Unterbalbach - ECPv6.15.20//NONSGML v1.0//EN
CALSCALE:GREGORIAN
METHOD:PUBLISH
X-ORIGINAL-URL:https://unterbalbach.de
X-WR-CALDESC:Veranstaltungen für Unterbalbach
REFRESH-INTERVAL;VALUE=DURATION:PT1H
X-Robots-Tag:noindex
X-PUBLISHED-TTL:PT1H
BEGIN:VTIMEZONE
TZID:Europe/Berlin
BEGIN:DAYLIGHT
TZOFFSETFROM:+0100
TZOFFSETTO:+0200
TZNAME:CEST
DTSTART:20230326T010000
END:DAYLIGHT
BEGIN:STANDARD
TZOFFSETFROM:+0200
TZOFFSETTO:+0100
TZNAME:CET
DTSTART:20231029T010000
END:STANDARD
BEGIN:DAYLIGHT
TZOFFSETFROM:+0100
TZOFFSETTO:+0200
TZNAME:CEST
DTSTART:20240331T010000
END:DAYLIGHT
BEGIN:STANDARD
TZOFFSETFROM:+0200
TZOFFSETTO:+0100
TZNAME:CET
DTSTART:20241027T010000
END:STANDARD
BEGIN:DAYLIGHT
TZOFFSETFROM:+0100
TZOFFSETTO:+0200
TZNAME:CEST
DTSTART:20250330T010000
END:DAYLIGHT
BEGIN:STANDARD
TZOFFSETFROM:+0200
TZOFFSETTO:+0100
TZNAME:CET
DTSTART:20251026T010000
END:STANDARD
END:VTIMEZONE
BEGIN:VEVENT
DTSTART;TZID=Europe/Berlin:20240727T090000
DTEND;TZID=Europe/Berlin:20240727T120000
DTSTAMP:20260422T083649
CREATED:20240715T085312Z
LAST-MODIFIED:20240715T085323Z
UID:3605-1722070800-1722081600@unterbalbach.de
SUMMARY:Streuobstwiesen mähen und Heu abräumen
DESCRIPTION:Einen umfangreichen Pflegeeinsatz führt die Naturschutzgruppe Taubergrund e.V. (NSG) am Samstag den 27.7.24 von 9:00 bis 12:00 Uhr zwischen Edelfingen und Unterbalbach durch. Die Streuobstwiesen am Auwäldchen\, einem hochwertigen Naturdenkmal\, und auf den angrenzenden schützenswerten Flächen muss gemäht und das Schnittgut abgeräumt werden. Besonders im Kampf gegen die rasche Verbuschung sowie für das Zurückdrängen der berüchtigten Neophyten sind solche Arbeitseinsätze dringend geboten\, auch Gräser die Blühpflanzen unterdrücken werden so ausgedünnt\nAlle interessierten Bürger und alle Mitglieder der NSG\, die eine Naturerfahrung bzw. ein Urlaubserlebnis der besonderen Art erleben möchten\, sind eingeladen\, die Naturschutzgruppe tatkräftig zu unterstützen. Treffpunkt ist am Samstag um 9 Uhr am Naturdenkmal „Auwäldchen“ am Radweg zwischen Edelfingen und Unterbalbach. Es stehen Werkzeuge Vorort zur Verfügung – wenn möglich eigenes Werkzeug Heurechen oder -gabel mitbringen.\nZum Abschluss gegen 12 Uhr gibt es ein kostenloses Vesper und Getränke mitten in der freien Natur. Anmeldungen bitte bei Elmar Patermann unter Tel.: 07931/45960 Mobil: 0176 34447005 oder eMail: info@naturschutz-taubergrund.de. Die Homepage: http://www.naturschutz-taubergrund.de/ informiert sie jederzeit über die Arbeit der NSG \nFür die Naturschutzgruppe Taubergrund\nHerzliche Grüße\nElmar Patermann
URL:https://unterbalbach.de/event/streuobstwiesen-maehen-und-heu-abraeumen/
LOCATION:Stadtteil Unterbalbach
CATEGORIES:Aktuell
ORGANIZER;CN="Naturschutzgruppe Taubergrund":MAILTO:info@naturschutz-taubergrund.de
END:VEVENT
END:VCALENDAR