BEGIN:VCALENDAR
VERSION:2.0
PRODID:-//Unterbalbach - ECPv6.15.20//NONSGML v1.0//EN
CALSCALE:GREGORIAN
METHOD:PUBLISH
X-ORIGINAL-URL:https://unterbalbach.de
X-WR-CALDESC:Veranstaltungen für Unterbalbach
REFRESH-INTERVAL;VALUE=DURATION:PT1H
X-Robots-Tag:noindex
X-PUBLISHED-TTL:PT1H
BEGIN:VTIMEZONE
TZID:Europe/Berlin
BEGIN:DAYLIGHT
TZOFFSETFROM:+0100
TZOFFSETTO:+0200
TZNAME:CEST
DTSTART:20230326T010000
END:DAYLIGHT
BEGIN:STANDARD
TZOFFSETFROM:+0200
TZOFFSETTO:+0100
TZNAME:CET
DTSTART:20231029T010000
END:STANDARD
BEGIN:DAYLIGHT
TZOFFSETFROM:+0100
TZOFFSETTO:+0200
TZNAME:CEST
DTSTART:20240331T010000
END:DAYLIGHT
BEGIN:STANDARD
TZOFFSETFROM:+0200
TZOFFSETTO:+0100
TZNAME:CET
DTSTART:20241027T010000
END:STANDARD
BEGIN:DAYLIGHT
TZOFFSETFROM:+0100
TZOFFSETTO:+0200
TZNAME:CEST
DTSTART:20250330T010000
END:DAYLIGHT
BEGIN:STANDARD
TZOFFSETFROM:+0200
TZOFFSETTO:+0100
TZNAME:CET
DTSTART:20251026T010000
END:STANDARD
END:VTIMEZONE
BEGIN:VEVENT
DTSTART;TZID=Europe/Berlin:20240630T183000
DTEND;TZID=Europe/Berlin:20240630T220000
DTSTAMP:20260422T101614
CREATED:20231030T082429Z
LAST-MODIFIED:20240624T070625Z
UID:3458-1719772200-1719784800@unterbalbach.de
SUMMARY:Grundsteinfest
DESCRIPTION:Liebe Gemeinde\, \nam Sonntag\, 30.06.2024 wollen wir\, im Anschluss an den Gottesdienst \, der um 18.30 Uhr beginnt und vom Münsterchor Bad Mergentheim mitgestaltet wird im Rahmen einer kleinen Feier der Grundsteinlegung unserer Pfarrkirche vor 200 Jahren gedenken. \nHierzu ist die Bevölkerung herzlich eingeladen. \nDas Gemeindeteam \nAchtung: Terminverschiebung entgegen Veranstaltungskalender vom 29.06. auf den nun 30.06.
URL:https://unterbalbach.de/event/grundsteinfest/
LOCATION:St.-Markus-Kirche
CATEGORIES:Aktuell
END:VEVENT
END:VCALENDAR