BEGIN:VCALENDAR
VERSION:2.0
PRODID:-//Unterbalbach - ECPv6.15.20//NONSGML v1.0//EN
CALSCALE:GREGORIAN
METHOD:PUBLISH
X-WR-CALNAME:Unterbalbach
X-ORIGINAL-URL:https://unterbalbach.de
X-WR-CALDESC:Veranstaltungen für Unterbalbach
REFRESH-INTERVAL;VALUE=DURATION:PT1H
X-Robots-Tag:noindex
X-PUBLISHED-TTL:PT1H
BEGIN:VTIMEZONE
TZID:Europe/Berlin
BEGIN:DAYLIGHT
TZOFFSETFROM:+0100
TZOFFSETTO:+0200
TZNAME:CEST
DTSTART:20220327T010000
END:DAYLIGHT
BEGIN:STANDARD
TZOFFSETFROM:+0200
TZOFFSETTO:+0100
TZNAME:CET
DTSTART:20221030T010000
END:STANDARD
BEGIN:DAYLIGHT
TZOFFSETFROM:+0100
TZOFFSETTO:+0200
TZNAME:CEST
DTSTART:20230326T010000
END:DAYLIGHT
BEGIN:STANDARD
TZOFFSETFROM:+0200
TZOFFSETTO:+0100
TZNAME:CET
DTSTART:20231029T010000
END:STANDARD
BEGIN:DAYLIGHT
TZOFFSETFROM:+0100
TZOFFSETTO:+0200
TZNAME:CEST
DTSTART:20240331T010000
END:DAYLIGHT
BEGIN:STANDARD
TZOFFSETFROM:+0200
TZOFFSETTO:+0100
TZNAME:CET
DTSTART:20241027T010000
END:STANDARD
END:VTIMEZONE
BEGIN:VEVENT
DTSTART;TZID=Europe/Berlin:20231114T193000
DTEND;TZID=Europe/Berlin:20231114T220000
DTSTAMP:20260422T205249
CREATED:20231031T175332Z
LAST-MODIFIED:20231031T175332Z
UID:3494-1699990200-1699999200@unterbalbach.de
SUMMARY:Öffentliche Ortschaftsratsitzung
DESCRIPTION:Am Dienstag\, 14. November 2023 findet um 19.30 Uhr im Bürgersaal im alten Rathaus eine öffentliche Sitzung des Ortschaftsrates Unterbalbach statt. \nTagesordnung:  \n\nBekanntgaben und anstehende Termine\nAktuell laufende oder beantragte Maßnahmen\nHaushalt 2024\nAusblick 2024\nKommunalwahlen 2024\nVerschiedenes\n\nDie Bevölkerung ist hierzu herzlich eingeladen.  \nUnterbalbach\, 31.10.2023
URL:https://unterbalbach.de/event/oeffentliche-ortschaftsratsitzung-6/
LOCATION:Altes Rathaus
CATEGORIES:Aktuell
END:VEVENT
END:VCALENDAR